BEGIN:VCALENDAR
VERSION:2.0
PRODID:-//Troy Snowmobile Club, Inc. - ECPv6.15.12.2//NONSGML v1.0//EN
CALSCALE:GREGORIAN
METHOD:PUBLISH
X-WR-CALNAME:Troy Snowmobile Club, Inc.
X-ORIGINAL-URL:https://troysnowmobileclub.org
X-WR-CALDESC:Events for Troy Snowmobile Club, Inc.
REFRESH-INTERVAL;VALUE=DURATION:PT1H
X-Robots-Tag:noindex
X-PUBLISHED-TTL:PT1H
BEGIN:VTIMEZONE
TZID:America/Denver
BEGIN:DAYLIGHT
TZOFFSETFROM:-0700
TZOFFSETTO:-0600
TZNAME:MDT
DTSTART:20220313T090000
END:DAYLIGHT
BEGIN:STANDARD
TZOFFSETFROM:-0600
TZOFFSETTO:-0700
TZNAME:MST
DTSTART:20221106T080000
END:STANDARD
BEGIN:DAYLIGHT
TZOFFSETFROM:-0700
TZOFFSETTO:-0600
TZNAME:MDT
DTSTART:20230312T090000
END:DAYLIGHT
BEGIN:STANDARD
TZOFFSETFROM:-0600
TZOFFSETTO:-0700
TZNAME:MST
DTSTART:20231105T080000
END:STANDARD
BEGIN:DAYLIGHT
TZOFFSETFROM:-0700
TZOFFSETTO:-0600
TZNAME:MDT
DTSTART:20240310T090000
END:DAYLIGHT
BEGIN:STANDARD
TZOFFSETFROM:-0600
TZOFFSETTO:-0700
TZNAME:MST
DTSTART:20241103T080000
END:STANDARD
BEGIN:DAYLIGHT
TZOFFSETFROM:-0700
TZOFFSETTO:-0600
TZNAME:MDT
DTSTART:20250309T090000
END:DAYLIGHT
BEGIN:STANDARD
TZOFFSETFROM:-0600
TZOFFSETTO:-0700
TZNAME:MST
DTSTART:20251102T080000
END:STANDARD
BEGIN:DAYLIGHT
TZOFFSETFROM:-0700
TZOFFSETTO:-0600
TZNAME:MDT
DTSTART:20260308T090000
END:DAYLIGHT
BEGIN:STANDARD
TZOFFSETFROM:-0600
TZOFFSETTO:-0700
TZNAME:MST
DTSTART:20261101T080000
END:STANDARD
BEGIN:DAYLIGHT
TZOFFSETFROM:-0700
TZOFFSETTO:-0600
TZNAME:MDT
DTSTART:20270314T090000
END:DAYLIGHT
BEGIN:STANDARD
TZOFFSETFROM:-0600
TZOFFSETTO:-0700
TZNAME:MST
DTSTART:20271107T080000
END:STANDARD
END:VTIMEZONE
BEGIN:VEVENT
DTSTART;TZID=America/Denver:20260106T190000
DTEND;TZID=America/Denver:20260106T210000
DTSTAMP:20260421T140715
CREATED:20251115T011427Z
LAST-MODIFIED:20251115T011427Z
UID:1435-1767726000-1767733200@troysnowmobileclub.org
SUMMARY:TSC Club Meeting
DESCRIPTION:TSC Meetings are the 1st Tuesday of each month @ 7:00pm @ the Groomer Building.
URL:https://troysnowmobileclub.org/event/tsc-club-meeting/
CATEGORIES:Club Meeting
ATTACH;FMTTYPE=image/jpeg:https://troysnowmobileclub.org/wp-content/uploads/club-meeting-photo.jpg
END:VEVENT
BEGIN:VEVENT
DTSTART;TZID=America/Denver:20260106T190000
DTEND;TZID=America/Denver:20260106T210000
DTSTAMP:20260421T140715
CREATED:20251115T011058Z
LAST-MODIFIED:20251115T011131Z
UID:1430-1767726000-1767733200@troysnowmobileclub.org
SUMMARY:TSC Meeting
DESCRIPTION:TSC Meetings are the 1st Tuesday of each month @ 7:00pm @ the Groomer Building.
URL:https://troysnowmobileclub.org/event/tsc-meeting-2/
CATEGORIES:Club Meeting
ATTACH;FMTTYPE=image/jpeg:https://troysnowmobileclub.org/wp-content/uploads/club-meeting-photo.jpg
END:VEVENT
BEGIN:VEVENT
DTSTART;TZID=America/Denver:20251206T180000
DTEND;TZID=America/Denver:20251206T210000
DTSTAMP:20260421T140715
CREATED:20251115T011245Z
LAST-MODIFIED:20251115T011245Z
UID:1433-1765044000-1765054800@troysnowmobileclub.org
SUMMARY:Annual Membership Dinner Drive
DESCRIPTION:
URL:https://troysnowmobileclub.org/event/annual-membership-dinner-drive/
CATEGORIES:Club Outing
ATTACH;FMTTYPE=image/jpeg:https://troysnowmobileclub.org/wp-content/uploads/club-dinner.jpg
END:VEVENT
BEGIN:VEVENT
DTSTART;TZID=America/Denver:20251104T080000
DTEND;TZID=America/Denver:20251104T170000
DTSTAMP:20260421T140715
CREATED:20251015T000721Z
LAST-MODIFIED:20251115T010746Z
UID:1428-1762243200-1762275600@troysnowmobileclub.org
SUMMARY:TSC Meeting
DESCRIPTION:
URL:https://troysnowmobileclub.org/event/tsc-meeting/
CATEGORIES:Club Meeting
ATTACH;FMTTYPE=image/jpeg:https://troysnowmobileclub.org/wp-content/uploads/club-meeting-photo.jpg
END:VEVENT
BEGIN:VEVENT
DTSTART;TZID=America/Denver:20250629T080000
DTEND;TZID=America/Denver:20250629T170000
DTSTAMP:20260421T140715
CREATED:20250415T000329Z
LAST-MODIFIED:20251115T010349Z
UID:1426-1751184000-1751216400@troysnowmobileclub.org
SUMMARY:Annual Snowmobile Appropriation Meeting & Annual Montana Snowmobile Association Board Meeting
DESCRIPTION:
URL:https://troysnowmobileclub.org/event/annual-snowmobile-appropriation-meeting-annual-montana-snowmobile-association-board-meeting-3/
CATEGORIES:Club Meeting
ATTACH;FMTTYPE=image/jpeg:https://troysnowmobileclub.org/wp-content/uploads/club-meeting-photo.jpg
END:VEVENT
BEGIN:VEVENT
DTSTART;TZID=America/Denver:20250628T080000
DTEND;TZID=America/Denver:20250628T170000
DTSTAMP:20260421T140715
CREATED:20250415T000206Z
LAST-MODIFIED:20251115T010228Z
UID:1424-1751097600-1751130000@troysnowmobileclub.org
SUMMARY:Annual Snowmobile Appropriation Meeting & Annual Montana Snowmobile Association Board Meeting
DESCRIPTION:
URL:https://troysnowmobileclub.org/event/annual-snowmobile-appropriation-meeting-annual-montana-snowmobile-association-board-meeting-2/
CATEGORIES:Club Meeting
ATTACH;FMTTYPE=image/jpeg:https://troysnowmobileclub.org/wp-content/uploads/club-meeting-photo.jpg
END:VEVENT
BEGIN:VEVENT
DTSTART;TZID=America/Denver:20250627T080000
DTEND;TZID=America/Denver:20250627T170000
DTSTAMP:20260421T140715
CREATED:20250414T235950Z
LAST-MODIFIED:20251115T010021Z
UID:1422-1751011200-1751043600@troysnowmobileclub.org
SUMMARY:Annual Snowmobile Appropriation Meeting & Annual Montana Snowmobile Association Board Meeting
DESCRIPTION:
URL:https://troysnowmobileclub.org/event/annual-snowmobile-appropriation-meeting-annual-montana-snowmobile-association-board-meeting/
CATEGORIES:Club Meeting
ATTACH;FMTTYPE=image/jpeg:https://troysnowmobileclub.org/wp-content/uploads/club-meeting-photo.jpg
END:VEVENT
BEGIN:VEVENT
DTSTART;TZID=America/Denver:20250503T100000
DTEND;TZID=America/Denver:20250503T170000
DTSTAMP:20260421T140715
CREATED:20250414T235707Z
LAST-MODIFIED:20251115T005728Z
UID:1420-1746266400-1746291600@troysnowmobileclub.org
SUMMARY:Cinco de Mayo/ M & S Ride
DESCRIPTION:
URL:https://troysnowmobileclub.org/event/cinco-de-mayo-m-s-ride/
CATEGORIES:Club Ride
ATTACH;FMTTYPE=image/jpeg:https://troysnowmobileclub.org/wp-content/uploads/club-rides.jpg
END:VEVENT
BEGIN:VEVENT
DTSTART;TZID=America/Denver:20250222T080000
DTEND;TZID=America/Denver:20250222T170000
DTSTAMP:20260421T140715
CREATED:20250115T005407Z
LAST-MODIFIED:20251115T005440Z
UID:1418-1740211200-1740243600@troysnowmobileclub.org
SUMMARY:Avalanche Safety & Training
DESCRIPTION:
URL:https://troysnowmobileclub.org/event/avalanche-safety-training-2/
CATEGORIES:Training
ATTACH;FMTTYPE=image/jpeg:https://troysnowmobileclub.org/wp-content/uploads/DSCN3696-scaled.jpg
END:VEVENT
BEGIN:VEVENT
DTSTART;TZID=America/Denver:20250221T080000
DTEND;TZID=America/Denver:20250221T170000
DTSTAMP:20260421T140715
CREATED:20250115T005129Z
LAST-MODIFIED:20251115T005157Z
UID:1416-1740124800-1740157200@troysnowmobileclub.org
SUMMARY:Avalanche Safety & Training
DESCRIPTION:
URL:https://troysnowmobileclub.org/event/avalanche-safety-training/
CATEGORIES:Training
ATTACH;FMTTYPE=image/jpeg:https://troysnowmobileclub.org/wp-content/uploads/DSCN3696-scaled.jpg
END:VEVENT
BEGIN:VEVENT
DTSTART;TZID=America/Denver:20241217T190000
DTEND;TZID=America/Denver:20241217T220000
DTSTAMP:20260421T140715
CREATED:20241115T004603Z
LAST-MODIFIED:20251115T004637Z
UID:1413-1734462000-1734472800@troysnowmobileclub.org
SUMMARY:Annual Club Membership Dinner 2024
DESCRIPTION:
URL:https://troysnowmobileclub.org/event/annual-club-membership-dinner-2024/
CATEGORIES:Club Outing
ATTACH;FMTTYPE=image/jpeg:https://troysnowmobileclub.org/wp-content/uploads/club-dinner.jpg
END:VEVENT
BEGIN:VEVENT
DTSTART;TZID=America/Denver:20240403T190000
DTEND;TZID=America/Denver:20240403T200000
DTSTAMP:20260421T140715
CREATED:20240223T021852Z
LAST-MODIFIED:20240319T172522Z
UID:1264-1712170800-1712174400@troysnowmobileclub.org
SUMMARY:Club Meeting
DESCRIPTION:Club Meetings are held the first Wednesday of each month\, Nov. through May.
URL:https://troysnowmobileclub.org/event/club-meeting-5/
CATEGORIES:Club Meeting
END:VEVENT
BEGIN:VEVENT
DTSTART;TZID=America/Denver:20240306T180000
DTEND;TZID=America/Denver:20240306T190000
DTSTAMP:20260421T140715
CREATED:20240223T021731Z
LAST-MODIFIED:20240302T052427Z
UID:1260-1709748000-1709751600@troysnowmobileclub.org
SUMMARY:Club Meeting
DESCRIPTION:Club Meetings are held the first Wednesday of each month\, Nov. through May.
URL:https://troysnowmobileclub.org/event/club-meeting-4/
CATEGORIES:Club Meeting
ATTACH;FMTTYPE=image/jpeg:https://troysnowmobileclub.org/wp-content/uploads/troy-snowmobile-club-event.jpg
END:VEVENT
BEGIN:VEVENT
DTSTART;TZID=America/Denver:20230503T180000
DTEND;TZID=America/Denver:20230503T190000
DTSTAMP:20260421T140715
CREATED:20230423T083408Z
LAST-MODIFIED:20240302T052504Z
UID:495-1683136800-1683140400@troysnowmobileclub.org
SUMMARY:Club Meeting
DESCRIPTION:Club Meetings are held the first Wednesday of each month\, Nov. through May.
URL:https://troysnowmobileclub.org/event/club-meeting-3/
LOCATION:The Groomer Building
CATEGORIES:Club Meeting
ATTACH;FMTTYPE=image/jpeg:https://troysnowmobileclub.org/wp-content/uploads/event-graphic.jpg
END:VEVENT
BEGIN:VEVENT
DTSTART;TZID=America/Denver:20230405T180000
DTEND;TZID=America/Denver:20230405T190000
DTSTAMP:20260421T140715
CREATED:20230423T083019Z
LAST-MODIFIED:20240302T052543Z
UID:493-1680717600-1680721200@troysnowmobileclub.org
SUMMARY:Club Meeting
DESCRIPTION:Club Meetings are held the first Wednesday of each month\, Nov. through May.
URL:https://troysnowmobileclub.org/event/club-meeting-2/
LOCATION:The Groomer Building
CATEGORIES:Club Meeting
ATTACH;FMTTYPE=image/jpeg:https://troysnowmobileclub.org/wp-content/uploads/event-graphic.jpg
END:VEVENT
BEGIN:VEVENT
DTSTART;TZID=America/Denver:20230301T120000
DTEND;TZID=America/Denver:20230301T130000
DTSTAMP:20260421T140715
CREATED:20230422T064800Z
LAST-MODIFIED:20240302T052610Z
UID:376-1677672000-1677675600@troysnowmobileclub.org
SUMMARY:Club Meeting
DESCRIPTION:Club Meetings are held the first Wednesday of each month\, Nov. through May.
URL:https://troysnowmobileclub.org/event/club-meeting/
LOCATION:The Groomer Building
CATEGORIES:Club Meeting
ATTACH;FMTTYPE=image/jpeg:https://troysnowmobileclub.org/wp-content/uploads/event-graphic.jpg
END:VEVENT
END:VCALENDAR